BEGIN:VCALENDAR
VERSION:2.0
PRODID:SchoolNow
CALSCALE:GREGORIAN
BEGIN:VEVENT
UID:01d94cc4-56d9-11ec-9feb-0e86db8fca29
DTSTAMP:20211206T211058Z
SUMMARY:Boys B Basketball Game vs. St. Norbert @ SJDL
URL;VALUE=URI:https://www.sjdlschool.com/student-life/athletics/lancer-athl
 etics-boys/calendar/2934256/boys-a-basketball-game-vs-st-norbert-sjdl-clon
 e
DTSTART:20220209T003000Z
DTEND:20220209T013000Z
END:VEVENT
END:VCALENDAR
