BEGIN:VCALENDAR
VERSION:2.0
PRODID:SchoolNow
CALSCALE:GREGORIAN
BEGIN:VEVENT
UID:f6ec0770-56d8-11ec-a646-0e86db8fca29
DTSTAMP:20211206T211039Z
SUMMARY:Boys B Basketball Game @ Holy Family
URL;VALUE=URI:https://www.sjdlschool.com/student-life/athletics/lancer-athl
 etics-boys/calendar/2934255/boys-b-basketball-game-holy-family
DTSTART:20220202T003000Z
DTEND:20220202T013000Z
END:VEVENT
END:VCALENDAR
