BEGIN:VCALENDAR
VERSION:2.0
PRODID:SchoolNow
CALSCALE:GREGORIAN
BEGIN:VEVENT
UID:ae20b90a-56d8-11ec-a39b-0e86db8fca29
DTSTAMP:20211206T210837Z
SUMMARY:Boys A Basketball Game vs. St. Cecilia @ SJDL
URL;VALUE=URI:https://www.sjdlschool.com/student-life/athletics/lancer-athl
 etics-boys/calendar/2934249/boys-a-basketball-game-vs-st-cecilia-sjdl
DTSTART:20220210T233000Z
DTEND:20220211T003000Z
END:VEVENT
END:VCALENDAR
