BEGIN:VCALENDAR
VERSION:2.0
PRODID:SchoolNow
CALSCALE:GREGORIAN
BEGIN:VEVENT
UID:9bce0e7e-56d8-11ec-b092-0e86db8fca29
DTSTAMP:20211206T210806Z
SUMMARY:Boys A Basketball Game vs. St. Norbert @ SJDL
URL;VALUE=URI:https://www.sjdlschool.com/student-life/athletics/lancer-athl
 etics-boys/calendar/2934248/boys-a-basketball-game-vs-st-norbert-sjdl
DTSTART:20220208T233000Z
DTEND:20220209T003000Z
END:VEVENT
END:VCALENDAR
