BEGIN:VCALENDAR
VERSION:2.0
PRODID:SchoolNow
CALSCALE:GREGORIAN
BEGIN:VEVENT
UID:815c9a56-56d8-11ec-8fe2-0e86db8fca29
DTSTAMP:20211206T210722Z
SUMMARY:Boys A Basketball Game @ Holy Family
URL;VALUE=URI:https://www.sjdlschool.com/student-life/athletics/lancer-athl
 etics-boys/calendar/2934247/boys-a-basketball-game-holy-family
DTSTART:20220201T233000Z
DTEND:20220202T003000Z
END:VEVENT
END:VCALENDAR
