BEGIN:VCALENDAR
VERSION:2.0
PRODID:SchoolNow
CALSCALE:GREGORIAN
BEGIN:VEVENT
UID:9a2db40a-1495-11ec-a8be-0237fd2e65bf
DTSTAMP:20210913T132211Z
SUMMARY:"B" Football @ Holy Family
URL;VALUE=URI:https://www.sjdlschool.com/student-life/athletics/lancer-athl
 etics-boys/calendar/2731171/b-football-holy-family
DTSTART:20210928T233000Z
DTEND:20210929T003000Z
END:VEVENT
END:VCALENDAR
