BEGIN:VCALENDAR
VERSION:2.0
PRODID:SchoolNow
CALSCALE:GREGORIAN
BEGIN:VEVENT
UID:8d60f6b0-1495-11ec-a3d2-0237fd2e65bf
DTSTAMP:20210913T132149Z
SUMMARY:"A" Football @ Holy Family
URL;VALUE=URI:https://www.sjdlschool.com/student-life/athletics/lancer-athl
 etics-boys/calendar/2731170/a-football-holy-family
DTSTART:20210928T223000Z
DTEND:20210928T233000Z
END:VEVENT
END:VCALENDAR
