BEGIN:VCALENDAR
VERSION:2.0
PRODID:SchoolNow
CALSCALE:GREGORIAN
BEGIN:VEVENT
UID:471644ee-1495-11ec-8a58-0237fd2e65bf
DTSTAMP:20210913T131951Z
SUMMARY:"B" Football Game @ St. Francis
URL;VALUE=URI:https://www.sjdlschool.com/student-life/athletics/lancer-athl
 etics-boys/calendar/2731167/b-football-game-st-francis
DTSTART:20210920T233000Z
DTEND:20210921T003000Z
END:VEVENT
END:VCALENDAR
