BEGIN:VCALENDAR
VERSION:2.0
PRODID:SchoolNow
CALSCALE:GREGORIAN
BEGIN:VEVENT
UID:3c94ae66-1495-11ec-b289-0237fd2e65bf
DTSTAMP:20210913T131934Z
SUMMARY:"A" Football Game @ St. Francis
URL;VALUE=URI:https://www.sjdlschool.com/student-life/athletics/lancer-athl
 etics-boys/calendar/2731166/a-football-game-st-franics
DTSTART:20210920T223000Z
DTEND:20210920T233000Z
END:VEVENT
END:VCALENDAR
